BEGIN:VCALENDAR
VERSION:2.0
PRODID:-//Thamesford Lions Club - ECPv6.15.20//NONSGML v1.0//EN
CALSCALE:GREGORIAN
METHOD:PUBLISH
X-WR-CALNAME:Thamesford Lions Club
X-ORIGINAL-URL:https://thamesfordlions.com
X-WR-CALDESC:Events for Thamesford Lions Club
REFRESH-INTERVAL;VALUE=DURATION:PT1H
X-Robots-Tag:noindex
X-PUBLISHED-TTL:PT1H
BEGIN:VTIMEZONE
TZID:Asia/Karachi
BEGIN:STANDARD
TZOFFSETFROM:+0500
TZOFFSETTO:+0500
TZNAME:PKT
DTSTART:20240101T000000
END:STANDARD
END:VTIMEZONE
BEGIN:VEVENT
DTSTART;TZID=Asia/Karachi:20251201T190000
DTEND;TZID=Asia/Karachi:20251201T223000
DTSTAMP:20260424T024517
CREATED:20250528T014604Z
LAST-MODIFIED:20250528T014604Z
UID:794-1764615600-1764628200@thamesfordlions.com
SUMMARY:Lions Dinner Meeting - December 2025
DESCRIPTION:
URL:https://thamesfordlions.com/event/lions-dinner-meeting-december-2025/
LOCATION:Thamesford District Recreation Centre\, 85 Middleton St\, Thamesford\, Ontario\, Canada
CATEGORIES:Club Meetings
END:VEVENT
BEGIN:VEVENT
DTSTART;TZID=Asia/Karachi:20251206T140000
DTEND;TZID=Asia/Karachi:20251206T160000
DTSTAMP:20260424T024518
CREATED:20251008T152329Z
LAST-MODIFIED:20251008T152329Z
UID:840-1765029600-1765036800@thamesfordlions.com
SUMMARY:Photos with Santa
DESCRIPTION:🎅 Photos with Santa – Saturday\, December 6th\nJoin the Thamesford Lions for a heartwarming afternoon with Santa Claus at the Thamesford District Recreation Centre (85 Middleton St.) from 2:00 to 4:00 PM! \nCapture a special holiday memory with your family — no reservations are needed\, and we’ll do our best to accommodate everyone. \nPhotos are taken by donation\, with all proceeds supporting the Ingersoll & District Inter-Church program\, helping local families in need this holiday season. \nBring your Christmas spirit\, big smiles\, and wish lists — Santa can’t wait to see you!
URL:https://thamesfordlions.com/event/photos-with-santa/
LOCATION:Thamesford District Recreation Centre\, 85 Middleton St\, Thamesford\, Ontario\, Canada
ORGANIZER;CN="Thamesford Lions":MAILTO:thamesfordlions@gmail.com
END:VEVENT
BEGIN:VEVENT
DTSTART;TZID=Asia/Karachi:20251206T183000
DTEND;TZID=Asia/Karachi:20251206T203000
DTSTAMP:20260424T024518
CREATED:20251008T152054Z
LAST-MODIFIED:20251008T152054Z
UID:832-1765045800-1765053000@thamesfordlions.com
SUMMARY:Lions Annual Christmas Carol Sing 2025
DESCRIPTION:🎄 Thamesford Lions Annual Christmas Carol Sing 🎶\nThe Thamesford Lions invite you to join us for our Annual Christmas Carol Sing on Saturday\, December 6\, 2025\, at the Thamesford Recreation Centre! \nDoors open at 6:00 PM\, and the show begins promptly at 6:30 PM. Enjoy an evening filled with festive music\, talented local performers\, and heartwarming community spirit. The concert runs for about an hour\, ending with a special visit from Santa Claus himself! \nBefore the concert\, Lion Doris Weir will be offering Photos with Santa from 2:00–4:00 PM\, followed by sound checks from 4:00–6:00 PM led by our sound master\, Lion Jim. \nAfter the singalong\, guests are invited to stay for free hot chocolate provided by the Thamesford Lions and homemade baked treats generously donated by the Oxford 4H Club. \nDonations collected at the event will go toward supporting the InterChurch program\, helping local families in need this holiday season. \nThis cherished community tradition brings together families\, friends\, and neighbours to share the joy of Christmas through song and togetherness. We can’t wait to celebrate with you! \n✨ Saturday\, December 6\, 2025📍 Thamesford Recreation Centre🕕 Doors open 6:00 PM | Show starts 6:30 PM \n  \n \n  \n 
URL:https://thamesfordlions.com/event/lions-annual-christmas-carol-sing-2025/
LOCATION:Thamesford District Recreation Centre\, 85 Middleton St\, Thamesford\, Ontario\, Canada
ORGANIZER;CN="Thamesford Lions":MAILTO:thamesfordlions@gmail.com
END:VEVENT
BEGIN:VEVENT
DTSTART;TZID=Asia/Karachi:20251215T190000
DTEND;TZID=Asia/Karachi:20251215T203000
DTSTAMP:20260424T024518
CREATED:20250528T014619Z
LAST-MODIFIED:20250528T014619Z
UID:804-1765825200-1765830600@thamesfordlions.com
SUMMARY:Lions Business Meeting - December 2025
DESCRIPTION:
URL:https://thamesfordlions.com/event/lions-business-meeting-december-2025/
LOCATION:Thamesford Public Library – Beaty Room\, 165 Dundas St\, Thamesford\, Ontario\, Canada
CATEGORIES:Club Meetings
END:VEVENT
END:VCALENDAR