BEGIN:VCALENDAR
VERSION:2.0
PRODID:-//Thamesford Lions Club - ECPv6.15.20//NONSGML v1.0//EN
CALSCALE:GREGORIAN
METHOD:PUBLISH
X-WR-CALNAME:Thamesford Lions Club
X-ORIGINAL-URL:https://thamesfordlions.com
X-WR-CALDESC:Events for Thamesford Lions Club
REFRESH-INTERVAL;VALUE=DURATION:PT1H
X-Robots-Tag:noindex
X-PUBLISHED-TTL:PT1H
BEGIN:VTIMEZONE
TZID:Asia/Karachi
BEGIN:STANDARD
TZOFFSETFROM:+0500
TZOFFSETTO:+0500
TZNAME:PKT
DTSTART:20240101T000000
END:STANDARD
END:VTIMEZONE
BEGIN:VEVENT
DTSTART;TZID=Asia/Karachi:20250902T190000
DTEND;TZID=Asia/Karachi:20250902T203000
DTSTAMP:20260424T071823
CREATED:20250528T014603Z
LAST-MODIFIED:20250528T014603Z
UID:791-1756839600-1756845000@thamesfordlions.com
SUMMARY:Lions Dinner Meeting - September 2025
DESCRIPTION:
URL:https://thamesfordlions.com/event/lions-dinner-meeting-september-2025/
LOCATION:Thamesford District Recreation Centre\, 85 Middleton St\, Thamesford\, Ontario\, Canada
CATEGORIES:Club Meetings
END:VEVENT
BEGIN:VEVENT
DTSTART;VALUE=DATE:20250909
DTEND;VALUE=DATE:20250912
DTSTAMP:20260424T071823
CREATED:20250528T014646Z
LAST-MODIFIED:20250528T015246Z
UID:813-1757376000-1757635199@thamesfordlions.com
SUMMARY:Canada’s Outdoor Farm Show - 2025
DESCRIPTION:Did you know?\nThe Thamesfor Lions volunteer at the Canada’s Outdoor Farm Show in Woodstock every year! Our Lions are proud members of Zone 37s\, a group of Lions Clubs that work together to serve our communities. One of the ways we do this is by cooking and serving at public and private events.\nWe take great pride in our work and strive to make a positive impact on those we serve.\nCome on over and say HI while you are at the show!!\nBreakfast: Lions McMuffin – egg\, cheese and peameal bacon on a bun\, coffee\, juice\, milk\, buttertarts.\nLunch: Hamburger/cheeseburger\, peameal on a bun\, chicken breast on a bun\, pulled pork\, hot dogs\, fries.
URL:https://thamesfordlions.com/event/canadas-outdoor-farm-show-2025/
CATEGORIES:Community Event
ATTACH;FMTTYPE=image/jpeg:https://thamesfordlions.com/wp-content/uploads/2025/05/Canadas-Outdoor-Farm-Show-welcomes-thousands-to-event-980x670-1.jpg
END:VEVENT
BEGIN:VEVENT
DTSTART;TZID=Asia/Karachi:20250916T190000
DTEND;TZID=Asia/Karachi:20250916T190000
DTSTAMP:20260424T071823
CREATED:20250528T014617Z
LAST-MODIFIED:20250528T014617Z
UID:801-1758049200-1758049200@thamesfordlions.com
SUMMARY:Lions Business Meeting - September 2025
DESCRIPTION:
URL:https://thamesfordlions.com/event/lions-business-meeting-september-2025/
LOCATION:Thamesford Public Library – Beaty Room\, 165 Dundas St\, Thamesford\, Ontario\, Canada
CATEGORIES:Club Meetings
END:VEVENT
END:VCALENDAR