BEGIN:VCALENDAR
VERSION:2.0
PRODID:-//Thamesford Lions Club - ECPv6.15.20//NONSGML v1.0//EN
CALSCALE:GREGORIAN
METHOD:PUBLISH
X-ORIGINAL-URL:https://thamesfordlions.com
X-WR-CALDESC:Events for Thamesford Lions Club
REFRESH-INTERVAL;VALUE=DURATION:PT1H
X-Robots-Tag:noindex
X-PUBLISHED-TTL:PT1H
BEGIN:VTIMEZONE
TZID:Asia/Karachi
BEGIN:STANDARD
TZOFFSETFROM:+0500
TZOFFSETTO:+0500
TZNAME:PKT
DTSTART:20240101T000000
END:STANDARD
END:VTIMEZONE
BEGIN:VEVENT
DTSTART;TZID=Asia/Karachi:20250810T080000
DTEND;TZID=Asia/Karachi:20250810T120000
DTSTAMP:20260424T084650
CREATED:20250528T014602Z
LAST-MODIFIED:20250528T014602Z
UID:790-1754812800-1754827200@thamesfordlions.com
SUMMARY:Lions Annual General Meeting - 2025/2026
DESCRIPTION:
URL:https://thamesfordlions.com/event/lions-annual-general-meeting-2025-2026/
LOCATION:Thamesford Public Library – Beaty Room\, 165 Dundas St\, Thamesford\, Ontario\, Canada
CATEGORIES:Club Meetings
END:VEVENT
END:VCALENDAR