BEGIN:VCALENDAR
VERSION:2.0
PRODID:-//Thamesford Lions Club - ECPv6.15.20//NONSGML v1.0//EN
CALSCALE:GREGORIAN
METHOD:PUBLISH
X-WR-CALNAME:Thamesford Lions Club
X-ORIGINAL-URL:https://thamesfordlions.com
X-WR-CALDESC:Events for Thamesford Lions Club
REFRESH-INTERVAL;VALUE=DURATION:PT1H
X-Robots-Tag:noindex
X-PUBLISHED-TTL:PT1H
BEGIN:VTIMEZONE
TZID:Asia/Karachi
BEGIN:STANDARD
TZOFFSETFROM:+0500
TZOFFSETTO:+0500
TZNAME:PKT
DTSTART:20240101T000000
END:STANDARD
END:VTIMEZONE
BEGIN:VEVENT
DTSTART;TZID=Asia/Karachi:20250602T190000
DTEND;TZID=Asia/Karachi:20250602T203000
DTSTAMP:20260424T114553
CREATED:20240906T013737Z
LAST-MODIFIED:20240906T013737Z
UID:436-1748890800-1748896200@thamesfordlions.com
SUMMARY:Lions Dinner Meeting - June 2025
DESCRIPTION:
URL:https://thamesfordlions.com/event/lions-dinner-meeting-june-2025/
LOCATION:Thamesford District Recreation Centre\, 85 Middleton St\, Thamesford\, Ontario\, Canada
CATEGORIES:Club Meetings
END:VEVENT
BEGIN:VEVENT
DTSTART;TZID=Asia/Karachi:20250615T080000
DTEND;TZID=Asia/Karachi:20250615T140000
DTSTAMP:20260424T114553
CREATED:20250421T170217Z
LAST-MODIFIED:20250528T005558Z
UID:765-1749974400-1749996000@thamesfordlions.com
SUMMARY:Lions 2nd annual car show
DESCRIPTION:Get ready to rev your engines—the Thamesford Lions 2nd Annual Father’s Day Car Show is rolling into Thamesford South Park on Sunday\, June 15th from 8 AM to 2 PM! Celebrate Dad with a fantastic day of classic and custom cars\, live DJ entertainment by Steve Hillier\, and family-friendly fun including kids’ activities\, bubbles\, and FREE Freezies. Enjoy the unbeatable aroma of our mouthwatering Lions BBQ\, and take in the great community vibes. Car registration is just $10 at the gate\, and the first 100 cars will receive a commemorative plaque. Whether you’re showcasing your wheels or just strolling through rows of chrome and horsepower\, it’s the perfect way to spend Father’s Day with the whole family! For more information\, contact Lion Derek at 226-268-2786.
URL:https://thamesfordlions.com/event/lions-2nd-annual-car-show/
LOCATION:South Lions Park\, 224 Seldon Street\, Thamesford\, Ontario\, Canada
ATTACH;FMTTYPE=image/jpeg:https://thamesfordlions.com/wp-content/uploads/2025/04/494332990_1809099726692838_7455978430859850942_n.jpg
END:VEVENT
BEGIN:VEVENT
DTSTART;TZID=Asia/Karachi:20250616T190000
DTEND;TZID=Asia/Karachi:20250616T203000
DTSTAMP:20260424T114553
CREATED:20240906T013819Z
LAST-MODIFIED:20240906T013819Z
UID:446-1750100400-1750105800@thamesfordlions.com
SUMMARY:Lions Business Meeting - June 2025
DESCRIPTION:
URL:https://thamesfordlions.com/event/lions-business-meeting-june-2025/
LOCATION:Thamesford Public Library – Beaty Room\, 165 Dundas St\, Thamesford\, Ontario\, Canada
CATEGORIES:Club Meetings
END:VEVENT
END:VCALENDAR