BEGIN:VCALENDAR
VERSION:2.0
PRODID:-//Thamesford Lions Club - ECPv6.15.20//NONSGML v1.0//EN
CALSCALE:GREGORIAN
METHOD:PUBLISH
X-ORIGINAL-URL:https://thamesfordlions.com
X-WR-CALDESC:Events for Thamesford Lions Club
REFRESH-INTERVAL;VALUE=DURATION:PT1H
X-Robots-Tag:noindex
X-PUBLISHED-TTL:PT1H
BEGIN:VTIMEZONE
TZID:Asia/Karachi
BEGIN:STANDARD
TZOFFSETFROM:+0500
TZOFFSETTO:+0500
TZNAME:PKT
DTSTART:20240101T000000
END:STANDARD
END:VTIMEZONE
BEGIN:VEVENT
DTSTART;TZID=Asia/Karachi:20250501T080000
DTEND;TZID=Asia/Karachi:20250501T170000
DTSTAMP:20260424T132002
CREATED:20250430T205410Z
LAST-MODIFIED:20250430T205916Z
UID:767-1746086400-1746118800@thamesfordlions.com
SUMMARY:Children's Races Calithumpian Fun
DESCRIPTION:Ready\, Set\, RUN!Join the Thamesford Lions for our Annual Children’s RacesSaturday\, May 17 | 10:00–11:30 AMGreen space north of the Thamesford arena \nThis free\, fun-filled event is a community favourite! Kids will dash\, hop\, and race through a variety of silly challenges — all in pursuit of a ribbon and a whole lot of fun. \nBring your speedy little ones\, lace up those running shoes\, and don’t forget your cheering voices (and horns)! \nLet’s make memories\, one race at a time.No registration needed – just show up and race! \nThis link will take you to our photo album that will show you last years pictures! https://flic.kr/s/aHBqjAExAK
URL:https://thamesfordlions.com/event/childrens-races-calithumpian-fun/
END:VEVENT
BEGIN:VEVENT
DTSTART;TZID=Asia/Karachi:20250505T190000
DTEND;TZID=Asia/Karachi:20250505T203000
DTSTAMP:20260424T132002
CREATED:20240906T013737Z
LAST-MODIFIED:20240906T013737Z
UID:435-1746471600-1746477000@thamesfordlions.com
SUMMARY:Lions Dinner Meeting - May 2025
DESCRIPTION:
URL:https://thamesfordlions.com/event/lions-dinner-meeting-may-2025/
LOCATION:Thamesford District Recreation Centre\, 85 Middleton St\, Thamesford\, Ontario\, Canada
CATEGORIES:Club Meetings
END:VEVENT
BEGIN:VEVENT
DTSTART;TZID=Asia/Karachi:20250518T110000
DTEND;TZID=Asia/Karachi:20250518T133000
DTSTAMP:20260424T132002
CREATED:20250225T015009Z
LAST-MODIFIED:20250415T144940Z
UID:572-1747566000-1747575000@thamesfordlions.com
SUMMARY:Lions Trout Brunch - 2025
DESCRIPTION:  \nThamesford Lions Annual Trout Brunch\n📅 Date: Sunday\, May 18\, 2025📍 Location: Thamesford District Recreation Centre⏰ Time: 11:00 AM – 1:30 PM \nJoin us for a beloved community tradition during the Calithumpian May Long Weekend! \n🎟 Tickets: \n\n\n$20 per person \n\n\n$12 for children (12 & under) \n\n\nAvailable at the door (cash\, credit\, or debit accepted) \n\n\nPre-sale tickets available! \n\n\n🍽 Meal Includes:✅ Beer-battered trout✅ Coleslaw✅ Potato salad✅ Tomato slices✅ Veggie sticks✅ Dinner roll \n🔹 Secure Your Pre-Sale Ticket: \n\n\nCall Lion Jack B at 519-285-2729 \n\n\nOnline purchase option please click the link -https://forms.gle/24LUDo1x6WbSFf4F7 \n\n\nDon’t miss out on this delicious\, community-style meal—a highlight of Thamesford’s May long weekend celebrations!
URL:https://thamesfordlions.com/event/lions-trout-brunch-2025/
LOCATION:Thamesford District Recreation Centre\, 85 Middleton St\, Thamesford\, Ontario\, Canada
END:VEVENT
BEGIN:VEVENT
DTSTART;TZID=Asia/Karachi:20250519T190000
DTEND;TZID=Asia/Karachi:20250519T203000
DTSTAMP:20260424T132002
CREATED:20240906T013819Z
LAST-MODIFIED:20240906T013819Z
UID:445-1747681200-1747686600@thamesfordlions.com
SUMMARY:Lions Business Meeting - May 2025
DESCRIPTION:
URL:https://thamesfordlions.com/event/lions-business-meeting-may-2025/
LOCATION:Thamesford Public Library – Beaty Room\, 165 Dundas St\, Thamesford\, Ontario\, Canada
CATEGORIES:Club Meetings
END:VEVENT
END:VCALENDAR