BEGIN:VCALENDAR
VERSION:2.0
PRODID:-//Thamesford Lions Club - ECPv6.15.20//NONSGML v1.0//EN
CALSCALE:GREGORIAN
METHOD:PUBLISH
X-ORIGINAL-URL:https://thamesfordlions.com
X-WR-CALDESC:Events for Thamesford Lions Club
REFRESH-INTERVAL;VALUE=DURATION:PT1H
X-Robots-Tag:noindex
X-PUBLISHED-TTL:PT1H
BEGIN:VTIMEZONE
TZID:Asia/Karachi
BEGIN:STANDARD
TZOFFSETFROM:+0500
TZOFFSETTO:+0500
TZNAME:PKT
DTSTART:20230101T000000
END:STANDARD
END:VTIMEZONE
BEGIN:VEVENT
DTSTART;TZID=Asia/Karachi:20241202T190000
DTEND;TZID=Asia/Karachi:20241202T203000
DTSTAMP:20260424T030201
CREATED:20240906T013730Z
LAST-MODIFIED:20240906T013730Z
UID:430-1733166000-1733171400@thamesfordlions.com
SUMMARY:Lions Dinner Meeting - December 2024
DESCRIPTION:
URL:https://thamesfordlions.com/event/lions-dinner-meeting-december-2024/
LOCATION:Thamesford District Recreation Centre\, 85 Middleton St\, Thamesford\, Ontario\, Canada
CATEGORIES:Club Meetings
END:VEVENT
BEGIN:VEVENT
DTSTART;TZID=Asia/Karachi:20241130T180000
DTEND;TZID=Asia/Karachi:20241130T203000
DTSTAMP:20260424T030201
CREATED:20241105T030853Z
LAST-MODIFIED:20241105T030853Z
UID:461-1732989600-1732998600@thamesfordlions.com
SUMMARY:Christmas Carol Sing - 2024
DESCRIPTION:
URL:https://thamesfordlions.com/event/christmas-carol-sing-2024/
LOCATION:Thamesford District Recreation Centre\, 85 Middleton St\, Thamesford\, Ontario\, Canada
ATTACH;FMTTYPE=image/jpeg:https://thamesfordlions.com/wp-content/uploads/2024/11/image000000.jpg
END:VEVENT
BEGIN:VEVENT
DTSTART;TZID=Asia/Karachi:20241118T190000
DTEND;TZID=Asia/Karachi:20241118T203000
DTSTAMP:20260424T030201
CREATED:20240906T013751Z
LAST-MODIFIED:20240906T013751Z
UID:439-1731956400-1731961800@thamesfordlions.com
SUMMARY:Lions Business Meeting - November 2024
DESCRIPTION:
URL:https://thamesfordlions.com/event/lions-business-meeting-november-2024/
LOCATION:Thamesford Public Library – Beaty Room\, 165 Dundas St\, Thamesford\, Ontario\, Canada
CATEGORIES:Club Meetings
END:VEVENT
BEGIN:VEVENT
DTSTART;TZID=Asia/Karachi:20241104T190000
DTEND;TZID=Asia/Karachi:20241104T203000
DTSTAMP:20260424T030201
CREATED:20240906T013730Z
LAST-MODIFIED:20240906T013730Z
UID:429-1730746800-1730752200@thamesfordlions.com
SUMMARY:Lions Dinner Meeting - November 2024
DESCRIPTION:
URL:https://thamesfordlions.com/event/lions-dinner-meeting-november-2024/
LOCATION:Thamesford District Recreation Centre\, 85 Middleton St\, Thamesford\, Ontario\, Canada
CATEGORIES:Club Meetings
END:VEVENT
BEGIN:VEVENT
DTSTART;TZID=Asia/Karachi:20241026T200000
DTEND;TZID=Asia/Karachi:20241026T233000
DTSTAMP:20260424T030201
CREATED:20241003T010148Z
LAST-MODIFIED:20241003T010239Z
UID:451-1729972800-1729985400@thamesfordlions.com
SUMMARY:Halloween Bash
DESCRIPTION:Get Ready for a Fun Night in Thamesford! \n\n\n\nJoin us on October 26th from 8:00 PM to 1:00 AM at the Thamesford District Recreational Centre for a Halloween Bash like no other! It’s all about dressing up\, dancing\, and having a blast with friends and neighbors.\n\n\n\n Come in your best costume and you could win prizes for:\n\n\nBest Costume\nBest Pair\nBest Group (3+ people)\n\n The night will be filled with amazing live music from Gravity Wagon\, a talented 7-piece cover band known for bringing a fun and lively mix of music to keep you dancing all night long.\n\n\n\n Tickets:\n\n\n$15 per person\n$20 per couple\n\nThis is a 19+ event\, so grab your costume and get ready for a spooky\, fun-filled night at our local hall! \n\n\n\nHosted by the Thamesford Lions\n\n\nPlease share the word and invite your friends—let’s make this a night to remember!
URL:https://thamesfordlions.com/event/halloween-bash/
LOCATION:Thamesford District Recreation Centre\, 85 Middleton St\, Thamesford\, Ontario\, Canada
ATTACH;FMTTYPE=image/png:https://thamesfordlions.com/wp-content/uploads/2024/10/halloween-facebook.png
END:VEVENT
BEGIN:VEVENT
DTSTART;TZID=Asia/Karachi:20241021T190000
DTEND;TZID=Asia/Karachi:20241021T203000
DTSTAMP:20260424T030201
CREATED:20240906T013750Z
LAST-MODIFIED:20240906T013750Z
UID:438-1729537200-1729542600@thamesfordlions.com
SUMMARY:Lions Business Meeting - October 2024
DESCRIPTION:
URL:https://thamesfordlions.com/event/lions-business-meeting-october-2024/
LOCATION:Thamesford Public Library – Beaty Room\, 165 Dundas St\, Thamesford\, Ontario\, Canada
CATEGORIES:Club Meetings
END:VEVENT
BEGIN:VEVENT
DTSTART;TZID=Asia/Karachi:20241020T130000
DTEND;TZID=Asia/Karachi:20241020T160000
DTSTAMP:20260424T030201
CREATED:20241008T194803Z
LAST-MODIFIED:20241008T194803Z
UID:456-1729429200-1729440000@thamesfordlions.com
SUMMARY:Pumpkin Palooza
DESCRIPTION:🎃🍂 Pumpkin Palooza is Back – Bigger and Better! 🍂🎃 \nMark your calendars for Sunday\, October 20th and get ready for a fun-filled day at the annual Pumpkin Palooza! This family-friendly event will take place at Westminster Church in Thamesford\, but don’t worry—this is purely a community event with no church-related activities or scriptures involved. It’s all about celebrating the best of the fall season with your neighbors! \n👨‍👩‍👧‍👦 Admission:\nJust $20 per family for an afternoon of autumn-inspired activities\, making it a great value for a fun family outing! \n🍔🔥 What to Expect:\nWe’ll have a sizzling BBQ with mouth-watering food\, perfect for refueling while you and your kids enjoy a wide range of fall-themed games! From pumpkin bowling to sack races and more\, there will be something for everyone. These activities are designed for all ages\, so whether you’re bringing toddlers or teenagers\, there’s plenty of excitement to go around. \n💵 Important Info:\nThis is a cash-only event\, so please be prepared. There’s no need to pre-register—just show up\, pay on-site\, and dive into the fun! \n🦁 Community Partnership:\nA special shout-out to our partners\, the Thamesford Lions! Their support helps make this event possible\, and we appreciate all they do for our community. \nSo\, grab your sweaters\, gather the family\, and head out to Pumpkin Palooza for a day of autumn fun\, great food\, and games. We can’t wait to see you there! \n🍁🎃 Details at a Glance:\n📍 Location: Westminster Church\, Thamesford\n🗓️ Date: Sunday\, October 20th\n🕐 Time: 1:00 PM – 4:00 PM\n👨‍👩‍👧‍👦 Cost: $20 per family (cash only\, no pre-registration) \nDon’t miss out on this fantastic community event—bring the whole family and celebrate the fall season in style! 🍂🔥
URL:https://thamesfordlions.com/event/pumpkin-palooza/
LOCATION:Westminister United Church Thamesford\, 115 George St\, Thamesford\, Ontario\, N0M 2M0\, Canada
END:VEVENT
BEGIN:VEVENT
DTSTART;TZID=Asia/Karachi:20241019T000000
DTEND;TZID=Asia/Karachi:20241019T000000
DTSTAMP:20260424T030201
CREATED:20240906T013834Z
LAST-MODIFIED:20240906T013834Z
UID:449-1729296000-1729296000@thamesfordlions.com
SUMMARY:Roadside Park and Cleanup
DESCRIPTION:
URL:https://thamesfordlions.com/event/roadside-park-and-cleanup/
LOCATION:Ontario
END:VEVENT
BEGIN:VEVENT
DTSTART;TZID=Asia/Karachi:20241007T190000
DTEND;TZID=Asia/Karachi:20241007T203000
DTSTAMP:20260424T030201
CREATED:20240906T013730Z
LAST-MODIFIED:20240906T013730Z
UID:428-1728327600-1728333000@thamesfordlions.com
SUMMARY:Lions Dinner Meeting - October 2024
DESCRIPTION:
URL:https://thamesfordlions.com/event/lions-dinner-meeting-october-2024/
LOCATION:Thamesford District Recreation Centre\, 85 Middleton St\, Thamesford\, Ontario\, Canada
CATEGORIES:Club Meetings
END:VEVENT
BEGIN:VEVENT
DTSTART;TZID=Asia/Karachi:20241005T100000
DTEND;TZID=Asia/Karachi:20241005T140000
DTSTAMP:20260424T030201
CREATED:20240906T013834Z
LAST-MODIFIED:20240906T013834Z
UID:448-1728122400-1728136800@thamesfordlions.com
SUMMARY:Upper Thames River Conservation Authority Watershed Event
DESCRIPTION:Join Us for a Fun-Filled Day!\n@ Lions River Park\nWe would like to express our sincere appreciation to the following organizations for their invaluable support and participation:\n– Upper Thames River Conservation Authority\n– Thamesford Lions Club\n– Township of Zorra\n– Indigenous Solidarity and Awareness Network (ISAN)\n– TD Friends of the Environment Foundation \nParking onsite is limited. To make your visit easy and enjoyable\, extra parking can be found at the New Township Office or the Brock and Visser Funeral Home. There will be no parking available on site.
URL:https://thamesfordlions.com/event/upper-thames-river-conservation-authority-watershed-event/
LOCATION:Lions River Park\, 194933-194947\, 19 Line\, Thamesford\, Ontario\, N0M 2M0\, Canada
END:VEVENT
BEGIN:VEVENT
DTSTART;TZID=Asia/Karachi:20240916T190000
DTEND;TZID=Asia/Karachi:20240916T203000
DTSTAMP:20260424T030201
CREATED:20240906T013750Z
LAST-MODIFIED:20240906T013750Z
UID:437-1726513200-1726518600@thamesfordlions.com
SUMMARY:Lions Business Meeting - September 2024
DESCRIPTION:
URL:https://thamesfordlions.com/event/lions-business-meeting-september-2024/
LOCATION:Thamesford Public Library – Beaty Room\, 165 Dundas St\, Thamesford\, Ontario\, Canada
CATEGORIES:Club Meetings
END:VEVENT
BEGIN:VEVENT
DTSTART;VALUE=DATE:20240910
DTEND;VALUE=DATE:20240913
DTSTAMP:20260424T030201
CREATED:20240906T013833Z
LAST-MODIFIED:20240906T013833Z
UID:447-1725926400-1726185599@thamesfordlions.com
SUMMARY:Canada's Outdoor Farm Show
DESCRIPTION:Did you know?\nThe Thamesfor Lions volunteer at the Canada’s Outdoor Farm Show in Woodstock every year! Our Lions are proud members of Zone 37s\, a group of Lions Clubs that work together to serve our communities. One of the ways we do this is by cooking and serving at public and private events.\nWe take great pride in our work and strive to make a positive impact on those we serve.\nCome on over and say HI while you are at the show!!\nBreakfast: Lions McMuffin – egg\, cheese and peameal bacon on a bun\, coffee\, juice\, milk\, buttertarts.\nLunch: Hamburger/cheeseburger\, peameal on a bun\, chicken breast on a bun\, pulled pork\, hot dogs\, fries.
URL:https://thamesfordlions.com/event/canadas-outdoor-farm-show/
LOCATION:Canada’s Outdoor Farm Show\, 744906 Oxford Road #17 R.R. #6\, Woodstock\, Ontario\, N4S 7W1\, Canada
CATEGORIES:Farm Show
END:VEVENT
BEGIN:VEVENT
DTSTART;TZID=Asia/Karachi:20240903T190000
DTEND;TZID=Asia/Karachi:20240903T203000
DTSTAMP:20260424T030201
CREATED:20240906T013729Z
LAST-MODIFIED:20240906T013729Z
UID:427-1725390000-1725395400@thamesfordlions.com
SUMMARY:Lions Dinner Meeting - September 2024
DESCRIPTION:
URL:https://thamesfordlions.com/event/lions-dinner-meeting-september-2024/
LOCATION:Thamesford District Recreation Centre\, 85 Middleton St\, Thamesford\, Ontario\, Canada
CATEGORIES:Club Meetings
END:VEVENT
END:VCALENDAR