BEGIN:VCALENDAR
VERSION:2.0
PRODID:-//Thamesford Lions Club - ECPv6.15.20//NONSGML v1.0//EN
CALSCALE:GREGORIAN
METHOD:PUBLISH
X-WR-CALNAME:Thamesford Lions Club
X-ORIGINAL-URL:https://thamesfordlions.com
X-WR-CALDESC:Events for Thamesford Lions Club
REFRESH-INTERVAL;VALUE=DURATION:PT1H
X-Robots-Tag:noindex
X-PUBLISHED-TTL:PT1H
BEGIN:VTIMEZONE
TZID:Asia/Karachi
BEGIN:STANDARD
TZOFFSETFROM:+0500
TZOFFSETTO:+0500
TZNAME:PKT
DTSTART:20250101T000000
END:STANDARD
END:VTIMEZONE
BEGIN:VEVENT
DTSTART;TZID=Asia/Karachi:20261003T100000
DTEND;TZID=Asia/Karachi:20261003T130000
DTSTAMP:20260424T054743
CREATED:20250414T235701Z
LAST-MODIFIED:20250414T235701Z
UID:756-1791021600-1791032400@thamesfordlions.com
SUMMARY:Upper Thames Conservation Watershed Celebration 2026
DESCRIPTION:Details TBD
URL:https://thamesfordlions.com/event/upper-thames-conservation-watershed-celebration-2026/
END:VEVENT
BEGIN:VEVENT
DTSTART;TZID=Asia/Karachi:20261010T090000
DTEND;TZID=Asia/Karachi:20261010T110000
DTSTAMP:20260424T054743
CREATED:20260205T181125Z
LAST-MODIFIED:20260205T181358Z
UID:912-1791622800-1791630000@thamesfordlions.com
SUMMARY:Lions road side clean up
DESCRIPTION:Our fell Roadside Litter Pickup Saturday October 10 with rain date Saturday October 17\, meet at River Park at 9 am.
URL:https://thamesfordlions.com/event/lions-road-side-clean-up-2/
END:VEVENT
END:VCALENDAR