BEGIN:VCALENDAR
VERSION:2.0
PRODID:-//Thamesford Lions Club - ECPv6.15.20//NONSGML v1.0//EN
CALSCALE:GREGORIAN
METHOD:PUBLISH
X-WR-CALNAME:Thamesford Lions Club
X-ORIGINAL-URL:https://thamesfordlions.com
X-WR-CALDESC:Events for Thamesford Lions Club
REFRESH-INTERVAL;VALUE=DURATION:PT1H
X-Robots-Tag:noindex
X-PUBLISHED-TTL:PT1H
BEGIN:VTIMEZONE
TZID:Asia/Karachi
BEGIN:STANDARD
TZOFFSETFROM:+0500
TZOFFSETTO:+0500
TZNAME:PKT
DTSTART:20250101T000000
END:STANDARD
END:VTIMEZONE
BEGIN:VEVENT
DTSTART;TZID=Asia/Karachi:20260517T110000
DTEND;TZID=Asia/Karachi:20260517T133000
DTSTAMP:20260423T222601
CREATED:20260306T160823Z
LAST-MODIFIED:20260422T193516Z
UID:927-1779015600-1779024600@thamesfordlions.com
SUMMARY:Trout Brunch
DESCRIPTION:The Thamesford Lions Club invites the community to their Annual Trout Brunch on Sunday\, May 17th at the Thamesford District Recreation Centre\, running from 11:00 a.m. to 1:30 p.m. Guests can enjoy a full plate featuring traditional beer-battered trout\, coleslaw\, potato salad\, tomato slices\, veggie sticks\, a dinner roll\, and a special dessert. \nTickets are $20 for adults\, $12 for children ages 5–12\, and free for children under 5. Each ticket includes one full plate\, with takeout options also available. \nThis popular event is part of the vibrant Calithumpian long weekend celebrations. Pre-sale tickets can be arranged by calling Lion Jack B at 519-285-2729 or by clicking here for the order form: https://forms.gle/3miCgmaXgYmqHGTZ7 \nTickets will also be available at the door on the day of the event\, with cash\, debit\, and credit accepted.
URL:https://thamesfordlions.com/event/trout-brunch/
LOCATION:Thamesford District Recreation Centre\, 85 Middleton St\, Thamesford\, Ontario\, Canada
CATEGORIES:Community Event,Trout brunch
ORGANIZER;CN="Thamesford Lions":MAILTO:thamesfordlions@gmail.com
END:VEVENT
END:VCALENDAR