BEGIN:VCALENDAR
VERSION:2.0
PRODID:-//Thamesford Lions Club - ECPv6.15.20//NONSGML v1.0//EN
CALSCALE:GREGORIAN
METHOD:PUBLISH
X-ORIGINAL-URL:https://thamesfordlions.com
X-WR-CALDESC:Events for Thamesford Lions Club
REFRESH-INTERVAL;VALUE=DURATION:PT1H
X-Robots-Tag:noindex
X-PUBLISHED-TTL:PT1H
BEGIN:VTIMEZONE
TZID:Asia/Karachi
BEGIN:STANDARD
TZOFFSETFROM:+0500
TZOFFSETTO:+0500
TZNAME:PKT
DTSTART:20250101T000000
END:STANDARD
END:VTIMEZONE
BEGIN:VEVENT
DTSTART;TZID=Asia/Karachi:20260504T190000
DTEND;TZID=Asia/Karachi:20260504T190000
DTSTAMP:20260424T012220
CREATED:20250528T014611Z
LAST-MODIFIED:20250528T014611Z
UID:799-1777921200-1777921200@thamesfordlions.com
SUMMARY:Lions Dinner Meeting - May 2026
DESCRIPTION:
URL:https://thamesfordlions.com/event/lions-dinner-meeting-may-2026/
LOCATION:Thamesford District Recreation Centre\, 85 Middleton St\, Thamesford\, Ontario\, Canada
CATEGORIES:Club Meetings
END:VEVENT
BEGIN:VEVENT
DTSTART;TZID=Asia/Karachi:20260518T190000
DTEND;TZID=Asia/Karachi:20260518T203000
DTSTAMP:20260424T012220
CREATED:20250528T014629Z
LAST-MODIFIED:20250528T014629Z
UID:809-1779130800-1779136200@thamesfordlions.com
SUMMARY:Lions Business Meeting - May 2026
DESCRIPTION:
URL:https://thamesfordlions.com/event/lions-business-meeting-may-2026/
LOCATION:Thamesford Public Library – Beaty Room\, 165 Dundas St\, Thamesford\, Ontario\, Canada
CATEGORIES:Club Meetings
END:VEVENT
END:VCALENDAR